BEGIN:VCALENDAR
VERSION:2.0
PRODID:-//Sabre//Sabre VObject 4.5.8//EN
CALSCALE:GREGORIAN
BEGIN:VEVENT
UID:criticalmass-one-halle-1748088000
DTSTAMP:20260421T034542Z
SUMMARY:Kidical Mass Halle (Saale) 24.05.2025
DTSTART;TZID=Europe/Berlin:20250524T140000
DTEND;TZID=Europe/Berlin:20250524T160000
LOCATION:Halle (Saale) Würfelwiese
GEO:51.486341;11.958828
URL;VALUE=URI:https://criticalmass.in/halle/kidical-mass-halle-mai-2025
END:VEVENT
END:VCALENDAR
