BEGIN:VCALENDAR
VERSION:2.0
PRODID:-//Sabre//Sabre VObject 4.5.8//EN
CALSCALE:GREGORIAN
BEGIN:VEVENT
UID:criticalmass-one-halle-1652533200
DTSTAMP:20260423T122015Z
SUMMARY:Kidical Mass Halle 14.05.2022
DTSTART;TZID=Europe/Berlin:20220514T150000
DTEND;TZID=Europe/Berlin:20220514T170000
LOCATION:Universitätsplatz
GEO:51.485956;11.969261
URL;VALUE=URI:https://criticalmass.in/halle/kidical-mass-halle-mai-2022
END:VEVENT
END:VCALENDAR
