BEGIN:VCALENDAR
VERSION:2.0
PRODID:-//Sabre//Sabre VObject 4.5.8//EN
CALSCALE:GREGORIAN
BEGIN:VEVENT
UID:criticalmass-one-halle-1651069800
DTSTAMP:20260421T082953Z
SUMMARY:Kidical Mass Halle April 2022
DTSTART;TZID=Europe/Berlin:20220427T163000
DTEND;TZID=Europe/Berlin:20220427T183000
LOCATION:Johannesplatz
GEO:51.470477;11.975226
URL;VALUE=URI:https://criticalmass.in/halle/kidical-mass-halle-april-2022
END:VEVENT
END:VCALENDAR
