BEGIN:VCALENDAR
VERSION:2.0
PRODID:-//Sabre//Sabre VObject 4.5.8//EN
CALSCALE:GREGORIAN
BEGIN:VEVENT
UID:criticalmass-one-halle-1730480400
DTSTAMP:20260421T081301Z
SUMMARY:Critical Mass Halle 01.11.2024
DTSTART;TZID=Europe/Berlin:20241101T180000
DTEND;TZID=Europe/Berlin:20241101T200000
LOCATION:August-Bebel-Platz
GEO:51.491665;11.968971
URL;VALUE=URI:https://criticalmass.in/halle/2024-11-01
END:VEVENT
END:VCALENDAR
