BEGIN:VCALENDAR
VERSION:2.0
PRODID:-//Sabre//Sabre VObject 4.5.8//EN
CALSCALE:GREGORIAN
BEGIN:VEVENT
UID:criticalmass-one-halle-1722614400
DTSTAMP:20260421T092648Z
SUMMARY:Critical Mass Halle 02.08.2024
DTSTART;TZID=Europe/Berlin:20240802T180000
DTEND;TZID=Europe/Berlin:20240802T200000
LOCATION:August-Bebel-Platz
GEO:51.491665;11.968971
URL;VALUE=URI:https://criticalmass.in/halle/2024-08-02
END:VEVENT
END:VCALENDAR
