BEGIN:VCALENDAR
VERSION:2.0
PRODID:-//Sabre//Sabre VObject 4.5.8//EN
CALSCALE:GREGORIAN
BEGIN:VEVENT
UID:criticalmass-one-halle-1699030800
DTSTAMP:20260421T032249Z
SUMMARY:Critical Mass Halle 03.11.2023
DTSTART;TZID=Europe/Berlin:20231103T180000
DTEND;TZID=Europe/Berlin:20231103T200000
LOCATION:August-Bebel-Platz
GEO:51.491665;11.968971
URL;VALUE=URI:https://criticalmass.in/halle/2023-11-03
END:VEVENT
END:VCALENDAR
