BEGIN:VCALENDAR
VERSION:2.0
PRODID:-//Sabre//Sabre VObject 4.5.8//EN
CALSCALE:GREGORIAN
BEGIN:VEVENT
UID:criticalmass-one-halle-1691164800
DTSTAMP:20260421T081227Z
SUMMARY:Critical Mass Halle 04.08.2023
DTSTART;TZID=Europe/Berlin:20230804T180000
DTEND;TZID=Europe/Berlin:20230804T200000
LOCATION:August-Bebel-Platz
GEO:51.491665;11.968971
URL;VALUE=URI:https://criticalmass.in/halle/2023-08-04
END:VEVENT
END:VCALENDAR
