BEGIN:VCALENDAR
VERSION:2.0
PRODID:-//Sabre//Sabre VObject 4.5.8//EN
CALSCALE:GREGORIAN
BEGIN:VEVENT
UID:criticalmass-one-halle-1656691200
DTSTAMP:20260421T081301Z
SUMMARY:Critical Mass Halle 01.07.2022
DTSTART;TZID=Europe/Berlin:20220701T180000
DTEND;TZID=Europe/Berlin:20220701T200000
LOCATION:August-Bebel-Platz
GEO:51.491665;11.968971
URL;VALUE=URI:https://criticalmass.in/halle/2022-07-01
END:VEVENT
END:VCALENDAR
