BEGIN:VCALENDAR
VERSION:2.0
PRODID:-//Sabre//Sabre VObject 4.5.8//EN
CALSCALE:GREGORIAN
BEGIN:VEVENT
UID:criticalmass-one-halle-1646413200
DTSTAMP:20260423T120842Z
SUMMARY:Critical Mass Halle 04.03.2022
DTSTART;TZID=Europe/Berlin:20220304T180000
DTEND;TZID=Europe/Berlin:20220304T200000
LOCATION:August-Bebel-Platz
GEO:51.491665;11.968971
URL;VALUE=URI:https://criticalmass.in/halle/2022-03-04
END:VEVENT
END:VCALENDAR
