BEGIN:VCALENDAR
VERSION:2.0
PRODID:-//Sabre//Sabre VObject 4.5.8//EN
CALSCALE:GREGORIAN
BEGIN:VEVENT
UID:criticalmass-one-halle-1643994000
DTSTAMP:20260421T002322Z
SUMMARY:Critical Mass Halle 04.02.2022
DTSTART;TZID=Europe/Berlin:20220204T180000
DTEND;TZID=Europe/Berlin:20220204T200000
LOCATION:August-Bebel-Platz
GEO:51.491665;11.968971
URL;VALUE=URI:https://criticalmass.in/halle/2022-02-04
END:VEVENT
END:VCALENDAR
