BEGIN:VCALENDAR
VERSION:2.0
PRODID:-//Sabre//Sabre VObject 4.5.8//EN
CALSCALE:GREGORIAN
BEGIN:VEVENT
UID:criticalmass-one-halle-1638550800
DTSTAMP:20260421T052639Z
SUMMARY:Critical Mass Halle 03.12.2021
DTSTART;TZID=Europe/Berlin:20211203T180000
DTEND;TZID=Europe/Berlin:20211203T200000
LOCATION:August-Bebel-Platz
GEO:51.491665;11.968971
URL;VALUE=URI:https://criticalmass.in/halle/2021-12-03
END:VEVENT
END:VCALENDAR
