BEGIN:VCALENDAR
VERSION:2.0
PRODID:-//Sabre//Sabre VObject 4.5.8//EN
CALSCALE:GREGORIAN
BEGIN:VEVENT
UID:criticalmass-one-halle-1636131600
DTSTAMP:20260421T034316Z
SUMMARY:Critical Mass Halle 05.11.2021
DTSTART;TZID=Europe/Berlin:20211105T180000
DTEND;TZID=Europe/Berlin:20211105T200000
LOCATION:August-Bebel-Platz
GEO:51.491665;11.968971
URL;VALUE=URI:https://criticalmass.in/halle/2021-11-05
END:VEVENT
END:VCALENDAR
