BEGIN:VCALENDAR
VERSION:2.0
PRODID:-//Sabre//Sabre VObject 4.5.8//EN
CALSCALE:GREGORIAN
BEGIN:VEVENT
UID:criticalmass-one-halle-1525449600
DTSTAMP:20260421T070948Z
SUMMARY:Critical Mass Halle 04.05.2018
DTSTART;TZID=Europe/Berlin:20180504T180000
DTEND;TZID=Europe/Berlin:20180504T200000
LOCATION:August-Bebel-Platz
GEO:51.491665;11.968971
URL;VALUE=URI:https://criticalmass.in/halle/2018-05-04
END:VEVENT
END:VCALENDAR
