BEGIN:VCALENDAR
VERSION:2.0
PRODID:-//Sabre//Sabre VObject 4.5.8//EN
CALSCALE:GREGORIAN
BEGIN:VEVENT
UID:criticalmass-one-hagen-1664020800
DTSTAMP:20260422T230839Z
SUMMARY:Kidical Mass Hagen 24.09.2022
DTSTART;TZID=Europe/Berlin:20220924T140000
DTEND;TZID=Europe/Berlin:20220924T160000
LOCATION:Wilhelmsplatz Hagen
URL;VALUE=URI:https://criticalmass.in/hagen/kidical-mass-hagen-september-20
 22
END:VEVENT
END:VCALENDAR
