BEGIN:VCALENDAR
VERSION:2.0
PRODID:-//Sabre//Sabre VObject 4.5.8//EN
CALSCALE:GREGORIAN
BEGIN:VEVENT
UID:criticalmass-one-hagen-1683374400
DTSTAMP:20260422T231619Z
SUMMARY:Kidical Mass Hagen 06.05.2023
DTSTART;TZID=Europe/Berlin:20230506T140000
DTEND;TZID=Europe/Berlin:20230506T160000
LOCATION:Adolf-Nassau-Platz
GEO:51.359029;7.469400
URL;VALUE=URI:https://criticalmass.in/hagen/kidical-mass-hagen-mai-2023
END:VEVENT
END:VCALENDAR
