BEGIN:VCALENDAR
VERSION:2.0
PRODID:-//Sabre//Sabre VObject 4.5.8//EN
CALSCALE:GREGORIAN
BEGIN:VEVENT
UID:criticalmass-one-hagen-1720803600
DTSTAMP:20260424T191729Z
SUMMARY:Critical Mass Hagen 12.07.2024
DTSTART;TZID=Europe/Berlin:20240712T190000
DTEND;TZID=Europe/Berlin:20240712T210000
LOCATION:Berliner Platz\, neben den überdachten Fahrradabstellplätzen
GEO:51.362091;7.461879
URL;VALUE=URI:https://criticalmass.in/hagen/2024-07-12
END:VEVENT
END:VCALENDAR
