BEGIN:VCALENDAR
VERSION:2.0
PRODID:-//Sabre//Sabre VObject 4.5.8//EN
CALSCALE:GREGORIAN
BEGIN:VEVENT
UID:criticalmass-one-hagen-1681491600
DTSTAMP:20260424T133131Z
SUMMARY:Critical Mass Hagen 14.04.2023
DTSTART;TZID=Europe/Berlin:20230414T190000
DTEND;TZID=Europe/Berlin:20230414T210000
LOCATION:Berliner Platz\, neben den überdachten Fahrradabstellplätzen
GEO:51.362091;7.461879
URL;VALUE=URI:https://criticalmass.in/hagen/2023-04-14
END:VEVENT
END:VCALENDAR
