BEGIN:VCALENDAR
VERSION:2.0
PRODID:-//Sabre//Sabre VObject 4.5.8//EN
CALSCALE:GREGORIAN
BEGIN:VEVENT
UID:criticalmass-one-hagen-1652461200
DTSTAMP:20260423T053405Z
SUMMARY:Critical Mass Hagen 13.05.2022
DTSTART;TZID=Europe/Berlin:20220513T190000
DTEND;TZID=Europe/Berlin:20220513T210000
LOCATION:Berliner Platz\, neben den überdachten Fahrradabstellplätzen
GEO:51.362091;7.461879
URL;VALUE=URI:https://criticalmass.in/hagen/2022-05-13
END:VEVENT
END:VCALENDAR
