BEGIN:VCALENDAR
VERSION:2.0
PRODID:-//Sabre//Sabre VObject 4.5.8//EN
CALSCALE:GREGORIAN
BEGIN:VEVENT
UID:criticalmass-one-hagen-1649437200
DTSTAMP:20260423T084717Z
SUMMARY:Critical Mass Hagen 08.04.2022
DTSTART;TZID=Europe/Berlin:20220408T190000
DTEND;TZID=Europe/Berlin:20220408T210000
LOCATION:Berliner Platz\, neben den überdachten Fahrradabstellplätzen
GEO:51.362091;7.461879
URL;VALUE=URI:https://criticalmass.in/hagen/2022-04-08
END:VEVENT
END:VCALENDAR
