BEGIN:VCALENDAR
VERSION:2.0
PRODID:-//Sabre//Sabre VObject 4.5.8//EN
CALSCALE:GREGORIAN
BEGIN:VEVENT
UID:criticalmass-one-hagen-1636740000
DTSTAMP:20260423T125229Z
SUMMARY:Critical Mass Hagen 12.11.2021
DTSTART;TZID=Europe/Berlin:20211112T190000
DTEND;TZID=Europe/Berlin:20211112T210000
LOCATION:Berliner Platz\, neben den überdachten Fahrradabstellplätzen
GEO:51.362091;7.461879
URL;VALUE=URI:https://criticalmass.in/hagen/2021-11-12
END:VEVENT
END:VCALENDAR
