BEGIN:VCALENDAR
VERSION:2.0
PRODID:-//Sabre//Sabre VObject 4.5.8//EN
CALSCALE:GREGORIAN
BEGIN:VEVENT
UID:criticalmass-one-hagen-1628874000
DTSTAMP:20260422T182557Z
SUMMARY:Critical Mass Hagen 13.08.2021
DTSTART;TZID=Europe/Berlin:20210813T190000
DTEND;TZID=Europe/Berlin:20210813T210000
LOCATION:Berliner Platz\, neben den überdachten Fahrradabstellplätzen
GEO:51.362091;7.461879
URL;VALUE=URI:https://criticalmass.in/hagen/2021-08-13
END:VEVENT
END:VCALENDAR
