BEGIN:VCALENDAR
VERSION:2.0
PRODID:-//Sabre//Sabre VObject 4.5.8//EN
CALSCALE:GREGORIAN
BEGIN:VEVENT
UID:criticalmass-one-hagen-1557507600
DTSTAMP:20260424T022129Z
SUMMARY:Critical Mass Hagen 10.05.2019
DTSTART;TZID=Europe/Berlin:20190510T190000
DTEND;TZID=Europe/Berlin:20190510T210000
LOCATION:Berliner Platz\, neben den überdachten Fahrradabstellplätzen
GEO:51.362091;7.461879
URL;VALUE=URI:https://criticalmass.in/hagen/2019-05-10
END:VEVENT
END:VCALENDAR
