BEGIN:VCALENDAR
VERSION:2.0
PRODID:-//Sabre//Sabre VObject 4.5.8//EN
CALSCALE:GREGORIAN
BEGIN:VEVENT
UID:criticalmass-one-hagen-1552068000
DTSTAMP:20260424T022128Z
SUMMARY:Critical Mass Hagen 08.03.2019
DTSTART;TZID=Europe/Berlin:20190308T190000
DTEND;TZID=Europe/Berlin:20190308T210000
LOCATION:Berliner Platz\, neben den überdachten Fahrradabstellplätzen
GEO:51.362091;7.461879
URL;VALUE=URI:https://criticalmass.in/hagen/2019-03-08
END:VEVENT
END:VCALENDAR
