BEGIN:VCALENDAR
VERSION:2.0
PRODID:-//Sabre//Sabre VObject 4.5.8//EN
CALSCALE:GREGORIAN
BEGIN:VEVENT
UID:criticalmass-one-hagen-1528477200
DTSTAMP:20260422T231151Z
SUMMARY:Critical Mass Hagen Juni 2018
DESCRIPTION:Video: https://www.youtube.com/watch?v=fuDqvDoXCUY
DTSTART;TZID=Europe/Berlin:20180608T190000
DTEND;TZID=Europe/Berlin:20180608T210000
LOCATION:Berliner Platz\, neben den überdachten Fahrradabstellplätzen
GEO:51.362108;7.461863
URL;VALUE=URI:https://criticalmass.in/hagen/2018-06-08
END:VEVENT
END:VCALENDAR
