BEGIN:VCALENDAR
VERSION:2.0
PRODID:-//Sabre//Sabre VObject 4.5.8//EN
CALSCALE:GREGORIAN
BEGIN:VEVENT
UID:criticalmass-one-hagen-1523638800
DTSTAMP:20260423T171320Z
SUMMARY:Critical Mass Hagen April 2018
DESCRIPTION:Video: https://www.youtube.com/watch?v=pwCzAtbLKlg\n21 Teilnehm
 er\, zwischendurch bis zu 25.
DTSTART;TZID=Europe/Berlin:20180413T190000
DTEND;TZID=Europe/Berlin:20180413T210000
LOCATION:Berliner Platz\, neben den überdachten Fahrradabstellplätzen
GEO:51.362095;7.461873
URL;VALUE=URI:https://criticalmass.in/hagen/2018-04-13
END:VEVENT
END:VCALENDAR
