BEGIN:VCALENDAR
VERSION:2.0
PRODID:-//Sabre//Sabre VObject 4.5.8//EN
CALSCALE:GREGORIAN
BEGIN:VEVENT
UID:criticalmass-one-gummersbach-1759505400
DTSTAMP:20260423T232749Z
SUMMARY:Critical Mass Oberberg 03.10.2025
DTSTART;TZID=Europe/Berlin:20251003T173000
DTEND;TZID=Europe/Berlin:20251003T193000
LOCATION:SchwalbeArena
GEO:51.024411;7.562971
URL;VALUE=URI:https://criticalmass.in/gummersbach/2025-10-03
END:VEVENT
END:VCALENDAR
