BEGIN:VCALENDAR
VERSION:2.0
PRODID:-//Sabre//Sabre VObject 4.5.8//EN
CALSCALE:GREGORIAN
BEGIN:VEVENT
UID:criticalmass-one-gummersbach-1757086200
DTSTAMP:20260424T134822Z
SUMMARY:Critical Mass Oberberg 05.09.2025
DTSTART;TZID=Europe/Berlin:20250905T173000
DTEND;TZID=Europe/Berlin:20250905T193000
LOCATION:SchwalbeArena
GEO:51.024411;7.562971
URL;VALUE=URI:https://criticalmass.in/gummersbach/2025-09-05
END:VEVENT
END:VCALENDAR
