BEGIN:VCALENDAR
VERSION:2.0
PRODID:-//Sabre//Sabre VObject 4.5.8//EN
CALSCALE:GREGORIAN
BEGIN:VEVENT
UID:criticalmass-one-gummersbach-1754062200
DTSTAMP:20260424T075033Z
SUMMARY:Critical Mass Oberberg 01.08.2025
DTSTART;TZID=Europe/Berlin:20250801T173000
DTEND;TZID=Europe/Berlin:20250801T193000
LOCATION:SchwalbeArena
GEO:51.024411;7.562971
URL;VALUE=URI:https://criticalmass.in/gummersbach/2025-08-01
END:VEVENT
END:VCALENDAR
