BEGIN:VCALENDAR
VERSION:2.0
PRODID:-//Sabre//Sabre VObject 4.5.8//EN
CALSCALE:GREGORIAN
BEGIN:VEVENT
UID:criticalmass-one-gummersbach-1741365000
DTSTAMP:20260423T185956Z
SUMMARY:Critical Mass Oberberg 07.03.2025
DTSTART;TZID=Europe/Berlin:20250307T173000
DTEND;TZID=Europe/Berlin:20250307T193000
LOCATION:SchwalbeArena
GEO:51.024411;7.562971
URL;VALUE=URI:https://criticalmass.in/gummersbach/2025-03-07
END:VEVENT
END:VCALENDAR
