BEGIN:VCALENDAR
VERSION:2.0
PRODID:-//Sabre//Sabre VObject 4.5.8//EN
CALSCALE:GREGORIAN
BEGIN:VEVENT
UID:criticalmass-one-gummersbach-1735921800
DTSTAMP:20260424T092344Z
SUMMARY:Critical Mass Oberberg 03.01.2025
DTSTART;TZID=Europe/Berlin:20250103T173000
DTEND;TZID=Europe/Berlin:20250103T193000
LOCATION:SchwalbeArena
GEO:51.024411;7.562971
URL;VALUE=URI:https://criticalmass.in/gummersbach/2025-01-03
END:VEVENT
END:VCALENDAR
