BEGIN:VCALENDAR
VERSION:2.0
PRODID:-//Sabre//Sabre VObject 4.5.8//EN
CALSCALE:GREGORIAN
BEGIN:VEVENT
UID:criticalmass-one-gummersbach-1706891400
DTSTAMP:20260425T153203Z
SUMMARY:Critical Mass Oberberg 02.02.2024
DTSTART;TZID=Europe/Berlin:20240202T173000
DTEND;TZID=Europe/Berlin:20240202T193000
LOCATION:SchwalbeArena
GEO:51.024411;7.562971
URL;VALUE=URI:https://criticalmass.in/gummersbach/2024-02-02
END:VEVENT
END:VCALENDAR
