BEGIN:VCALENDAR
VERSION:2.0
PRODID:-//Sabre//Sabre VObject 4.5.8//EN
CALSCALE:GREGORIAN
BEGIN:VEVENT
UID:criticalmass-one-gummersbach-1693582200
DTSTAMP:20260423T232748Z
SUMMARY:Critical Mass Oberberg 01.09.2023
DTSTART;TZID=Europe/Berlin:20230901T173000
DTEND;TZID=Europe/Berlin:20230901T193000
LOCATION:SchwalbeArena
GEO:51.024411;7.562971
URL;VALUE=URI:https://criticalmass.in/gummersbach/2023-09-01
END:VEVENT
END:VCALENDAR
