BEGIN:VCALENDAR
VERSION:2.0
PRODID:-//Sabre//Sabre VObject 4.5.8//EN
CALSCALE:GREGORIAN
BEGIN:VEVENT
UID:criticalmass-one-gummersbach-1680881400
DTSTAMP:20260423T204440Z
SUMMARY:Critical Mass Oberberg 07.04.2023
DTSTART;TZID=Europe/Berlin:20230407T173000
DTEND;TZID=Europe/Berlin:20230407T193000
LOCATION:SchwalbeArena
GEO:51.024411;7.562971
URL;VALUE=URI:https://criticalmass.in/gummersbach/2023-04-07
END:VEVENT
END:VCALENDAR
