BEGIN:VCALENDAR
VERSION:2.0
PRODID:-//Sabre//Sabre VObject 4.5.8//EN
CALSCALE:GREGORIAN
BEGIN:VEVENT
UID:criticalmass-one-gummersbach-1669998600
DTSTAMP:20260423T232800Z
SUMMARY:Critical Mass Oberberg 02.12.2022
DTSTART;TZID=Europe/Berlin:20221202T173000
DTEND;TZID=Europe/Berlin:20221202T193000
LOCATION:SchwalbeArena
GEO:51.024411;7.562971
URL;VALUE=URI:https://criticalmass.in/gummersbach/2022-12-02
END:VEVENT
END:VCALENDAR
