BEGIN:VCALENDAR
VERSION:2.0
PRODID:-//Sabre//Sabre VObject 4.5.8//EN
CALSCALE:GREGORIAN
BEGIN:VEVENT
UID:criticalmass-one-gummersbach-1665156600
DTSTAMP:20260423T230459Z
SUMMARY:Critical Mass Oberberg 07.10.2022
DTSTART;TZID=Europe/Berlin:20221007T173000
DTEND;TZID=Europe/Berlin:20221007T193000
LOCATION:SchwalbeArena
GEO:51.024411;7.562971
URL;VALUE=URI:https://criticalmass.in/gummersbach/2022-10-07
END:VEVENT
END:VCALENDAR
