BEGIN:VCALENDAR
VERSION:2.0
PRODID:-//Sabre//Sabre VObject 4.5.8//EN
CALSCALE:GREGORIAN
BEGIN:VEVENT
UID:criticalmass-one-gummersbach-1656689400
DTSTAMP:20260424T092302Z
SUMMARY:Critical Mass Oberberg 01.07.2022
DTSTART;TZID=Europe/Berlin:20220701T173000
DTEND;TZID=Europe/Berlin:20220701T193000
LOCATION:SchwalbeArena
GEO:51.024411;7.562971
URL;VALUE=URI:https://criticalmass.in/gummersbach/2022-07-01
END:VEVENT
END:VCALENDAR
