BEGIN:VCALENDAR
VERSION:2.0
PRODID:-//Sabre//Sabre VObject 4.5.8//EN
CALSCALE:GREGORIAN
BEGIN:VEVENT
UID:criticalmass-one-gummersbach-1646411400
DTSTAMP:20260423T232701Z
SUMMARY:Critical Mass Oberberg 04.03.2022
DTSTART;TZID=Europe/Berlin:20220304T173000
DTEND;TZID=Europe/Berlin:20220304T193000
LOCATION:SchwalbeArena
GEO:51.024411;7.562971
URL;VALUE=URI:https://criticalmass.in/gummersbach/2022-03-04
END:VEVENT
END:VCALENDAR
