BEGIN:VCALENDAR
VERSION:2.0
PRODID:-//Sabre//Sabre VObject 4.5.8//EN
CALSCALE:GREGORIAN
BEGIN:VEVENT
UID:criticalmass-one-gummersbach-1633102200
DTSTAMP:20260424T100748Z
SUMMARY:Critical Mass Oberberg 01.10.2021
DTSTART;TZID=Europe/Berlin:20211001T173000
DTEND;TZID=Europe/Berlin:20211001T193000
LOCATION:SchwalbeArena
GEO:51.024411;7.562971
URL;VALUE=URI:https://criticalmass.in/gummersbach/2021-10-01
END:VEVENT
END:VCALENDAR
