BEGIN:VCALENDAR
VERSION:2.0
PRODID:-//Sabre//Sabre VObject 4.5.8//EN
CALSCALE:GREGORIAN
BEGIN:VEVENT
UID:criticalmass-one-guetersloh-1758267000
DTSTAMP:20260423T095728Z
SUMMARY:Kidical Mass Gütersloh 19.09.2025
DESCRIPTION:Wir radeln wieder mit ALLEN. Auch Du bist herzlich willkommen. 
 Toppen wir in diesem Jahr die 600?\nWir fahren wieder die B61 - die wilde 
 Autobahn mitten durch unsere Stadt: Wir schnappen sie uns und fahren auf d
 er herrlich glatten Fahrbahn\, die sonst durch tonnenschwere Blechmobile z
 erstört wird\, die unglaubliche Mengen Lärm und Dreck produzieren und di
 e Stadt kaum überwindbar teilen. Heute gehört sie für kurze Zeit uns!
DTSTART;TZID=Europe/Berlin:20250919T093000
DTEND;TZID=Europe/Berlin:20250919T113000
LOCATION:Gütersloh Grundschule Pavenstädt Anne-Frank-Gesamtschule\, Städ
 tisches Gymnasium\, ESG
GEO:51.907687;8.361171
URL;VALUE=URI:https://criticalmass.in/guetersloh/kidical-mass-guetersloh-se
 ptember-2025
END:VEVENT
END:VCALENDAR
