BEGIN:VCALENDAR
VERSION:2.0
PRODID:-//Sabre//Sabre VObject 4.5.8//EN
CALSCALE:GREGORIAN
BEGIN:VEVENT
UID:criticalmass-one-guetersloh-1652533200
DTSTAMP:20260424T002745Z
SUMMARY:Kidical Mass Gütersloh 14.05.2022
DTSTART;TZID=Europe/Berlin:20220514T150000
DTEND;TZID=Europe/Berlin:20220514T170000
LOCATION:Rathausplatz
GEO:51.853705;8.290094
URL;VALUE=URI:https://criticalmass.in/guetersloh/kidical-mass-guetersloh-ma
 i-2022
END:VEVENT
END:VCALENDAR
