BEGIN:VCALENDAR
VERSION:2.0
PRODID:-//Sabre//Sabre VObject 4.5.8//EN
CALSCALE:GREGORIAN
BEGIN:VEVENT
UID:criticalmass-one-guetersloh-1746802800
DTSTAMP:20260422T202455Z
SUMMARY:Critical Mass Gütersloh 09.05.2025
DTSTART;TZID=Europe/Berlin:20250509T170000
DTEND;TZID=Europe/Berlin:20250509T190000
LOCATION:Rathaus Gütersloh
GEO:51.908273;8.380487
URL;VALUE=URI:https://criticalmass.in/guetersloh/2025-05-09
END:VEVENT
END:VCALENDAR
