BEGIN:VCALENDAR
VERSION:2.0
PRODID:-//Sabre//Sabre VObject 4.5.8//EN
CALSCALE:GREGORIAN
BEGIN:VEVENT
UID:criticalmass-one-guetersloh-1726239600
DTSTAMP:20260423T113651Z
SUMMARY:Critical Mass Gütersloh 13.09.2024
DTSTART;TZID=Europe/Berlin:20240913T170000
DTEND;TZID=Europe/Berlin:20240913T190000
LOCATION:Rathaus Gütersloh
GEO:51.908273;8.380487
URL;VALUE=URI:https://criticalmass.in/guetersloh/2024-09-13
END:VEVENT
END:VCALENDAR
