BEGIN:VCALENDAR
VERSION:2.0
PRODID:-//Sabre//Sabre VObject 4.5.8//EN
CALSCALE:GREGORIAN
BEGIN:VEVENT
UID:criticalmass-one-guetersloh-1709913600
DTSTAMP:20260423T112205Z
SUMMARY:Critical Mass Gütersloh 08.03.2024 - Gegen das Vergessen und für 
 die Menschlichkeit
DESCRIPTION:Lasst uns dieses Mal für die Menschlichkeit und gegen das Verg
 essen unterwegs sein ! Antisemitismus\, Rassismus\, und Ausgrenzung jeglic
 her Art dürfen bei uns keinen Platz haben !
DTSTART;TZID=Europe/Berlin:20240308T170000
DTEND;TZID=Europe/Berlin:20240308T190000
LOCATION:Rathaus Gütersloh
GEO:51.908273;8.380487
URL;VALUE=URI:https://criticalmass.in/guetersloh/2024-03-08
END:VEVENT
END:VCALENDAR
