BEGIN:VCALENDAR
VERSION:2.0
PRODID:-//Sabre//Sabre VObject 4.5.8//EN
CALSCALE:GREGORIAN
BEGIN:VEVENT
UID:criticalmass-one-guetersloh-1576252800
DTSTAMP:20260423T112030Z
SUMMARY:Critical Mass Gütersloh
DESCRIPTION:Zu cool für zu kalt. Komm dazu. Schöne\, wenn wir mindestens 
 16 Radlerinnen sind. Aber wir radeln auch zu dritt :-)
DTSTART;TZID=Europe/Berlin:20191213T170000
DTEND;TZID=Europe/Berlin:20191213T190000
LOCATION:Rathaus Gütersloh
GEO:51.908974;8.381066
URL;VALUE=URI:https://criticalmass.in/guetersloh/2019-12-13
END:VEVENT
END:VCALENDAR
