BEGIN:VCALENDAR
VERSION:2.0
PRODID:-//Sabre//Sabre VObject 4.5.8//EN
CALSCALE:GREGORIAN
BEGIN:VEVENT
UID:criticalmass-one-guetersloh-1562943600
DTSTAMP:20260423T112919Z
SUMMARY:Critical Mass Gütersloh 12.07.2019
DTSTART;TZID=Europe/Berlin:20190712T170000
DTEND;TZID=Europe/Berlin:20190712T190000
LOCATION:Rathaus Gütersloh
GEO:51.906480;8.378683
URL;VALUE=URI:https://criticalmass.in/guetersloh/2019-07-12
END:VEVENT
END:VCALENDAR
