BEGIN:VCALENDAR
VERSION:2.0
PRODID:-//Sabre//Sabre VObject 4.5.8//EN
CALSCALE:GREGORIAN
BEGIN:VEVENT
UID:criticalmass-one-guetersloh-1538758800
DTSTAMP:20260423T154523Z
SUMMARY:Critical Mass Gütersloh 05.10.2018
DTSTART;TZID=Europe/Berlin:20181005T190000
DTEND;TZID=Europe/Berlin:20181005T210000
LOCATION:Berliner Platz
GEO:51.906480;8.378683
URL;VALUE=URI:https://criticalmass.in/guetersloh/2018-10-05
END:VEVENT
END:VCALENDAR
