BEGIN:VCALENDAR
VERSION:2.0
PRODID:-//Sabre//Sabre VObject 4.5.8//EN
CALSCALE:GREGORIAN
BEGIN:VEVENT
UID:criticalmass-one-guetersloh-1536339600
DTSTAMP:20260423T171544Z
SUMMARY:Critical Mass Gütersloh 07.09.2018
DTSTART;TZID=Europe/Berlin:20180907T190000
DTEND;TZID=Europe/Berlin:20180907T210000
LOCATION:Berliner Platz
GEO:51.906480;8.378683
URL;VALUE=URI:https://criticalmass.in/guetersloh/2018-09-07
END:VEVENT
END:VCALENDAR
