BEGIN:VCALENDAR
VERSION:2.0
PRODID:-//Sabre//Sabre VObject 4.5.8//EN
CALSCALE:GREGORIAN
BEGIN:VEVENT
UID:criticalmass-one-guetersloh-1512151200
DTSTAMP:20260423T143024Z
SUMMARY:Critical Mass Gütersloh 01.12.2017
DTSTART;TZID=Europe/Berlin:20171201T190000
DTEND;TZID=Europe/Berlin:20171201T210000
LOCATION:Berliner Platz
GEO:51.906480;8.378683
URL;VALUE=URI:https://criticalmass.in/guetersloh/2017-12-01
END:VEVENT
END:VCALENDAR
