BEGIN:VCALENDAR
VERSION:2.0
PRODID:-//Sabre//Sabre VObject 4.5.8//EN
CALSCALE:GREGORIAN
BEGIN:VEVENT
UID:criticalmass-one-guetersloh-1507309200
DTSTAMP:20260422T112658Z
SUMMARY:Critical Mass Gütersloh 06.10.2017
DTSTART;TZID=Europe/Berlin:20171006T190000
DTEND;TZID=Europe/Berlin:20171006T210000
LOCATION:Berliner Platz
GEO:51.906480;8.378683
URL;VALUE=URI:https://criticalmass.in/guetersloh/2017-10-06
END:VEVENT
END:VCALENDAR
