BEGIN:VCALENDAR
VERSION:2.0
PRODID:-//Sabre//Sabre VObject 4.5.8//EN
CALSCALE:GREGORIAN
BEGIN:VEVENT
UID:criticalmass-one-guetersloh-1501866000
DTSTAMP:20260423T114211Z
SUMMARY:Critical Mass Gütersloh 04.08.2017
DTSTART;TZID=Europe/Berlin:20170804T190000
DTEND;TZID=Europe/Berlin:20170804T210000
LOCATION:Berliner Platz
GEO:51.906480;8.378683
URL;VALUE=URI:https://criticalmass.in/guetersloh/2017-08-04
END:VEVENT
END:VCALENDAR
